Package: skewr Version: 1.34.0 Command: /Library/Frameworks/R.framework/Resources/bin/R CMD build --keep-empty-dirs --no-resave-data skewr StartedAt: 2024-04-15 22:06:44 -0400 (Mon, 15 Apr 2024) EndedAt: 2024-04-15 22:12:21 -0400 (Mon, 15 Apr 2024) EllapsedTime: 336.5 seconds RetCode: 0 Status: OK PackageFile: skewr_1.34.0.tar.gz PackageFileSize: 767.4 KiB