Package: skewr Version: 1.34.0 Command: /home/biocbuild/R/R-4.3.1/bin/R CMD check --install=check:skewr.install-out.txt --library=/home/biocbuild/R/R-4.3.1/site-library --no-vignettes --timings skewr_1.34.0.tar.gz StartedAt: 2023-11-02 14:28:02 -0000 (Thu, 02 Nov 2023) EndedAt: 2023-11-02 14:35:07 -0000 (Thu, 02 Nov 2023) EllapsedTime: 425.7 seconds RetCode: 0 Status: OK CheckDir: skewr.Rcheck Warnings: 0