Package: sizepower Version: 1.72.0 Command: chmod a+r sizepower -R && F:\biocbuild\bbs-3.18-bioc\R\bin\R.exe CMD build --keep-empty-dirs --no-resave-data sizepower StartedAt: 2024-04-15 21:15:29 -0400 (Mon, 15 Apr 2024) EndedAt: 2024-04-15 21:15:37 -0400 (Mon, 15 Apr 2024) EllapsedTime: 7.4 seconds RetCode: 0 Status: OK PackageFile: sizepower_1.72.0.tar.gz PackageFileSize: 175.1 KiB