Package: sizepower Version: 1.72.0 Command: /home/biocbuild/R/R-4.3.1/bin/R CMD build --keep-empty-dirs --no-resave-data sizepower StartedAt: 2023-11-02 06:29:11 -0000 (Thu, 02 Nov 2023) EndedAt: 2023-11-02 06:29:15 -0000 (Thu, 02 Nov 2023) EllapsedTime: 4.0 seconds RetCode: 0 Status: OK PackageFile: sizepower_1.72.0.tar.gz PackageFileSize: 285.6 KiB