Package: sitadela Version: 1.10.0 Command: rm -rf sitadela.buildbin-libdir && mkdir sitadela.buildbin-libdir && /Users/biocbuild/BBS/utils/build-universal.sh sitadela_1.10.0.tar.gz /Library/Frameworks/R.framework/Resources/bin/R sitadela.buildbin-libdir StartedAt: 2024-04-16 12:45:42 -0400 (Tue, 16 Apr 2024) EndedAt: 2024-04-16 12:47:05 -0400 (Tue, 16 Apr 2024) EllapsedTime: 83.0 seconds RetCode: 0 Status: OK PackageFile: sitadela_1.10.0.tgz PackageFileSize: 713.5 KiB