Package: sitadela Version: 1.10.0 Command: /Library/Frameworks/R.framework/Resources/bin/R CMD INSTALL sitadela StartedAt: 2024-03-03 15:19:22 -0500 (Sun, 03 Mar 2024) EndedAt: 2024-03-03 15:20:19 -0500 (Sun, 03 Mar 2024) EllapsedTime: 56.4 seconds RetCode: 0 Status: OK