Package: sitadela Version: 1.10.0 Command: rm -rf sitadela.buildbin-libdir && mkdir sitadela.buildbin-libdir && /Users/biocbuild/BBS/utils/build-universal.sh sitadela_1.10.0.tar.gz /Library/Frameworks/R.framework/Resources/bin/R sitadela.buildbin-libdir StartedAt: 2024-03-04 01:05:33 -0500 (Mon, 04 Mar 2024) EndedAt: 2024-03-04 01:06:30 -0500 (Mon, 04 Mar 2024) EllapsedTime: 57.0 seconds RetCode: 0 Status: OK PackageFile: sitadela_1.10.0.tgz PackageFileSize: 713.3 KiB