Package: singscore Version: 1.22.0 Command: /Library/Frameworks/R.framework/Resources/bin/R CMD build --keep-empty-dirs --no-resave-data singscore StartedAt: 2024-03-03 18:22:02 -0500 (Sun, 03 Mar 2024) EndedAt: 2024-03-03 18:23:24 -0500 (Sun, 03 Mar 2024) EllapsedTime: 82.4 seconds RetCode: 0 Status: OK PackageFile: singscore_1.22.0.tar.gz PackageFileSize: 2.831 MiB