Package: singscore Version: 1.22.0 Command: rm -rf singscore.buildbin-libdir && mkdir singscore.buildbin-libdir && /Users/biocbuild/BBS/utils/build-universal.sh singscore_1.22.0.tar.gz /Library/Frameworks/R.framework/Resources/bin/R singscore.buildbin-libdir StartedAt: 2024-03-04 01:05:27 -0500 (Mon, 04 Mar 2024) EndedAt: 2024-03-04 01:06:16 -0500 (Mon, 04 Mar 2024) EllapsedTime: 49.1 seconds RetCode: 0 Status: OK PackageFile: singscore_1.22.0.tgz PackageFileSize: 3.369 MiB