Package: singleCellTK Version: 2.12.0 Command: /home/biocbuild/R/R-4.3.1/bin/R CMD check --install=check:singleCellTK.install-out.txt --library=/home/biocbuild/R/R-4.3.1/site-library --no-vignettes --timings singleCellTK_2.12.0.tar.gz StartedAt: 2023-11-02 14:26:36 -0000 (Thu, 02 Nov 2023) EndedAt: 2023-11-02 15:06:37 -0000 (Thu, 02 Nov 2023) EllapsedTime: 2400.4 seconds RetCode: None Status: TIMEOUT CheckDir: singleCellTK.Rcheck Warnings: NA