Package: single Version: 1.6.0 Command: rm -rf single.buildbin-libdir && mkdir single.buildbin-libdir && F:\biocbuild\bbs-3.18-bioc\R\bin\R.exe CMD INSTALL --build --library=single.buildbin-libdir single_1.6.0.tar.gz StartedAt: 2024-04-16 07:42:19 -0400 (Tue, 16 Apr 2024) EndedAt: 2024-04-16 07:42:56 -0400 (Tue, 16 Apr 2024) EllapsedTime: 36.5 seconds RetCode: 0 Status: OK PackageFile: single_1.6.0.zip PackageFileSize: 1.409 MiB