Package: signifinder Version: 1.4.0 Command: F:\biocbuild\bbs-3.18-bioc\R\bin\R.exe CMD INSTALL signifinder StartedAt: 2024-04-15 16:45:26 -0400 (Mon, 15 Apr 2024) EndedAt: 2024-04-15 16:46:37 -0400 (Mon, 15 Apr 2024) EllapsedTime: 70.5 seconds RetCode: 0 Status: OK