Package: signifinder Version: 1.4.0 Command: /Library/Frameworks/R.framework/Resources/bin/R CMD build --keep-empty-dirs --no-resave-data signifinder StartedAt: 2024-04-15 22:00:22 -0400 (Mon, 15 Apr 2024) EndedAt: 2024-04-15 22:07:20 -0400 (Mon, 15 Apr 2024) EllapsedTime: 418.3 seconds RetCode: 0 Status: OK PackageFile: signifinder_1.4.0.tar.gz PackageFileSize: 8.088 MiB