Package: signifinder Version: 1.4.0 Command: /home/biocbuild/R/R-4.3.1/bin/R CMD build --keep-empty-dirs --no-resave-data signifinder StartedAt: 2023-11-02 06:17:31 -0000 (Thu, 02 Nov 2023) EndedAt: 2023-11-02 06:20:56 -0000 (Thu, 02 Nov 2023) EllapsedTime: 205.2 seconds RetCode: 0 Status: OK PackageFile: signifinder_1.4.0.tar.gz PackageFileSize: 7.799 MiB