Package: signeR Version: 2.4.0 Command: F:\biocbuild\bbs-3.18-bioc\R\bin\R.exe CMD INSTALL signeR StartedAt: 2024-04-15 16:43:12 -0400 (Mon, 15 Apr 2024) EndedAt: 2024-04-15 16:45:14 -0400 (Mon, 15 Apr 2024) EllapsedTime: 121.9 seconds RetCode: 0 Status: OK