Package: signatureSearch Version: 1.16.0 Command: /Library/Frameworks/R.framework/Resources/bin/R CMD check --install=check:signatureSearch.install-out.txt --library=/Library/Frameworks/R.framework/Resources/library --no-vignettes --timings signatureSearch_1.16.0.tar.gz StartedAt: 2024-04-16 08:57:20 -0400 (Tue, 16 Apr 2024) EndedAt: 2024-04-16 09:12:59 -0400 (Tue, 16 Apr 2024) EllapsedTime: 939.0 seconds RetCode: 0 Status: OK CheckDir: signatureSearch.Rcheck Warnings: 0