Package: sights Version: 1.28.0 Command: rm -rf sights.buildbin-libdir && mkdir sights.buildbin-libdir && /Users/biocbuild/BBS/utils/build-universal.sh sights_1.28.0.tar.gz /Library/Frameworks/R.framework/Resources/bin/R sights.buildbin-libdir StartedAt: 2024-04-16 12:44:40 -0400 (Tue, 16 Apr 2024) EndedAt: 2024-04-16 12:44:55 -0400 (Tue, 16 Apr 2024) EllapsedTime: 14.1 seconds RetCode: 0 Status: OK PackageFile: sights_1.28.0.tgz PackageFileSize: 3.662 MiB