Package: siggenes Version: 1.76.0 Command: /home/biocbuild/R/R-4.3.1/bin/R CMD INSTALL siggenes StartedAt: 2023-11-01 20:48:38 -0000 (Wed, 01 Nov 2023) EndedAt: 2023-11-01 20:48:55 -0000 (Wed, 01 Nov 2023) EllapsedTime: 16.3 seconds RetCode: 0 Status: OK