Package: sigFeature Version: 1.20.0 Command: chmod a+r sigFeature -R && F:\biocbuild\bbs-3.18-bioc\R\bin\R.exe CMD build --keep-empty-dirs --no-resave-data sigFeature StartedAt: 2024-04-15 21:10:27 -0400 (Mon, 15 Apr 2024) EndedAt: 2024-04-15 21:11:19 -0400 (Mon, 15 Apr 2024) EllapsedTime: 51.2 seconds RetCode: 0 Status: OK PackageFile: sigFeature_1.20.0.tar.gz PackageFileSize: 263.8 KiB