Package: sigFeature Version: 1.20.0 Command: /Library/Frameworks/R.framework/Resources/bin/R CMD check --install=check:sigFeature.install-out.txt --library=/Library/Frameworks/R.framework/Resources/library --no-vignettes --timings sigFeature_1.20.0.tar.gz StartedAt: 2024-04-16 08:55:37 -0400 (Tue, 16 Apr 2024) EndedAt: 2024-04-16 09:01:56 -0400 (Tue, 16 Apr 2024) EllapsedTime: 379.3 seconds RetCode: 0 Status: OK CheckDir: sigFeature.Rcheck Warnings: 0