Package: sigFeature Version: 1.20.0 Command: /Library/Frameworks/R.framework/Resources/bin/R CMD build --keep-empty-dirs --no-resave-data sigFeature StartedAt: 2024-03-03 18:20:10 -0500 (Sun, 03 Mar 2024) EndedAt: 2024-03-03 18:20:56 -0500 (Sun, 03 Mar 2024) EllapsedTime: 46.0 seconds RetCode: 0 Status: OK PackageFile: sigFeature_1.20.0.tar.gz PackageFileSize: 354.7 KiB