Package: sevenbridges Version: 1.32.0 Command: /home/biocbuild/bbs-3.18-bioc/R/bin/R CMD build --keep-empty-dirs --no-resave-data sevenbridges StartedAt: 2024-04-15 19:13:48 -0400 (Mon, 15 Apr 2024) EndedAt: 2024-04-15 19:15:10 -0400 (Mon, 15 Apr 2024) EllapsedTime: 81.8 seconds RetCode: 0 Status: OK PackageFile: sevenbridges_1.32.0.tar.gz PackageFileSize: 4.656 MiB