Package: sevenbridges Version: 1.32.0 Command: /home/biocbuild/R/R-4.3.1/bin/R CMD check --install=check:sevenbridges.install-out.txt --library=/home/biocbuild/R/R-4.3.1/site-library --no-vignettes --timings sevenbridges_1.32.0.tar.gz StartedAt: 2023-11-02 14:19:12 -0000 (Thu, 02 Nov 2023) EndedAt: 2023-11-02 14:22:31 -0000 (Thu, 02 Nov 2023) EllapsedTime: 199.4 seconds RetCode: 0 Status: OK CheckDir: sevenbridges.Rcheck Warnings: 0