Package: seqcombo Version: 1.24.0 Command: /Library/Frameworks/R.framework/Resources/bin/R CMD check --install=check:seqcombo.install-out.txt --library=/Library/Frameworks/R.framework/Resources/library --no-vignettes --timings seqcombo_1.24.0.tar.gz StartedAt: 2024-04-16 08:47:57 -0400 (Tue, 16 Apr 2024) EndedAt: 2024-04-16 08:49:04 -0400 (Tue, 16 Apr 2024) EllapsedTime: 67.5 seconds RetCode: 0 Status: OK CheckDir: seqcombo.Rcheck Warnings: 0