Package: seqLogo Version: 1.68.0 Command: rm -rf seqLogo.buildbin-libdir && mkdir seqLogo.buildbin-libdir && F:\biocbuild\bbs-3.18-bioc\R\bin\R.exe CMD INSTALL --build --library=seqLogo.buildbin-libdir seqLogo_1.68.0.tar.gz StartedAt: 2024-04-16 07:40:54 -0400 (Tue, 16 Apr 2024) EndedAt: 2024-04-16 07:41:01 -0400 (Tue, 16 Apr 2024) EllapsedTime: 6.9 seconds RetCode: 0 Status: OK PackageFile: seqLogo_1.68.0.zip PackageFileSize: 511 KiB