Package: seqLogo Version: 1.68.0 Command: /Library/Frameworks/R.framework/Resources/bin/R CMD build --keep-empty-dirs --no-resave-data seqLogo StartedAt: 2024-03-03 18:18:23 -0500 (Sun, 03 Mar 2024) EndedAt: 2024-03-03 18:18:32 -0500 (Sun, 03 Mar 2024) EllapsedTime: 9.0 seconds RetCode: 0 Status: OK PackageFile: seqLogo_1.68.0.tar.gz PackageFileSize: 901.7 KiB