Package: seqLogo Version: 1.68.0 Command: /home/biocbuild/R/R-4.3.1/bin/R CMD INSTALL seqLogo StartedAt: 2023-11-01 20:06:25 -0000 (Wed, 01 Nov 2023) EndedAt: 2023-11-01 20:06:45 -0000 (Wed, 01 Nov 2023) EllapsedTime: 20.7 seconds RetCode: 0 Status: OK