Package: seqLogo Version: 1.68.0 Command: /home/biocbuild/R/R-4.3.1/bin/R CMD check --install=check:seqLogo.install-out.txt --library=/home/biocbuild/R/R-4.3.1/site-library --no-vignettes --timings seqLogo_1.68.0.tar.gz StartedAt: 2023-11-02 14:18:40 -0000 (Thu, 02 Nov 2023) EndedAt: 2023-11-02 14:19:01 -0000 (Thu, 02 Nov 2023) EllapsedTime: 21.1 seconds RetCode: 0 Status: OK CheckDir: seqLogo.Rcheck Warnings: 0