Package: seqLogo Version: 1.68.0 Command: /home/biocbuild/R/R-4.3.1/bin/R CMD build --keep-empty-dirs --no-resave-data seqLogo StartedAt: 2023-11-02 06:06:53 -0000 (Thu, 02 Nov 2023) EndedAt: 2023-11-02 06:07:01 -0000 (Thu, 02 Nov 2023) EllapsedTime: 8.0 seconds RetCode: 0 Status: OK PackageFile: seqLogo_1.68.0.tar.gz PackageFileSize: 966 KiB