Package: seqArchRplus Version: 1.2.0 Command: chmod a+r seqArchRplus -R && F:\biocbuild\bbs-3.18-bioc\R\bin\R.exe CMD build --keep-empty-dirs --no-resave-data seqArchRplus StartedAt: 2024-04-15 21:06:16 -0400 (Mon, 15 Apr 2024) EndedAt: 2024-04-15 21:10:01 -0400 (Mon, 15 Apr 2024) EllapsedTime: 224.6 seconds RetCode: 0 Status: OK PackageFile: seqArchRplus_1.2.0.tar.gz PackageFileSize: 1.768 MiB