Package: seqArchRplus Version: 1.2.0 Command: /Library/Frameworks/R.framework/Resources/bin/R CMD INSTALL seqArchRplus StartedAt: 2024-03-03 15:42:32 -0500 (Sun, 03 Mar 2024) EndedAt: 2024-03-03 15:43:08 -0500 (Sun, 03 Mar 2024) EllapsedTime: 35.9 seconds RetCode: 0 Status: OK