Package: segmenter Version: 1.8.0 Command: /Library/Frameworks/R.framework/Resources/bin/R CMD INSTALL segmenter StartedAt: 2024-04-15 16:11:44 -0400 (Mon, 15 Apr 2024) EndedAt: 2024-04-15 16:13:22 -0400 (Mon, 15 Apr 2024) EllapsedTime: 98.3 seconds RetCode: 0 Status: OK