Package: segmenter Version: 1.8.0 Command: /home/biocbuild/R/R-4.3.1/bin/R CMD INSTALL segmenter StartedAt: 2023-11-01 21:08:37 -0000 (Wed, 01 Nov 2023) EndedAt: 2023-11-01 21:10:19 -0000 (Wed, 01 Nov 2023) EllapsedTime: 102.6 seconds RetCode: 0 Status: OK