Package: segmentSeq Version: 2.36.0 Command: rm -rf segmentSeq.buildbin-libdir && mkdir segmentSeq.buildbin-libdir && F:\biocbuild\bbs-3.18-bioc\R\bin\R.exe CMD INSTALL --build --library=segmentSeq.buildbin-libdir segmentSeq_2.36.0.tar.gz StartedAt: 2024-04-16 07:40:11 -0400 (Tue, 16 Apr 2024) EndedAt: 2024-04-16 07:41:04 -0400 (Tue, 16 Apr 2024) EllapsedTime: 52.8 seconds RetCode: 0 Status: OK PackageFile: segmentSeq_2.36.0.zip PackageFileSize: 3.541 MiB