Package: scviR Version: 1.2.0 Command: /home/biocbuild/bbs-3.18-bioc/R/bin/R CMD INSTALL scviR StartedAt: 2024-04-15 15:44:28 -0400 (Mon, 15 Apr 2024) EndedAt: 2024-04-15 15:45:01 -0400 (Mon, 15 Apr 2024) EllapsedTime: 33.3 seconds RetCode: 0 Status: OK