Package: scviR Version: 1.2.0 Command: /home/biocbuild/bbs-3.18-bioc/R/bin/R CMD build --keep-empty-dirs --no-resave-data scviR StartedAt: 2024-04-15 19:11:04 -0400 (Mon, 15 Apr 2024) EndedAt: 2024-04-15 19:12:56 -0400 (Mon, 15 Apr 2024) EllapsedTime: 112.3 seconds RetCode: 0 Status: OK PackageFile: scviR_1.2.0.tar.gz PackageFileSize: 3.365 MiB