Package: scviR Version: 1.1.0 Command: /Library/Frameworks/R.framework/Resources/bin/R CMD check --install=check:scviR.install-out.txt --library=/Library/Frameworks/R.framework/Resources/library --no-vignettes --timings scviR_1.1.0.tar.gz StartedAt: 2023-06-28 22:23:37 -0400 (Wed, 28 Jun 2023) EndedAt: 2023-06-28 22:29:05 -0400 (Wed, 28 Jun 2023) EllapsedTime: 328.2 seconds RetCode: 0 Status: OK CheckDir: scviR.Rcheck Warnings: 0