Package: scuttle Version: 1.12.0 Command: chmod a+r scuttle -R && F:\biocbuild\bbs-3.18-bioc\R\bin\R.exe CMD build --keep-empty-dirs --no-resave-data scuttle StartedAt: 2024-04-15 21:04:26 -0400 (Mon, 15 Apr 2024) EndedAt: 2024-04-15 21:08:38 -0400 (Mon, 15 Apr 2024) EllapsedTime: 252.8 seconds RetCode: 0 Status: OK PackageFile: scuttle_1.12.0.tar.gz PackageFileSize: 1006 KiB