Package: scry Version: 1.14.0 Command: /home/biocbuild/bbs-3.18-bioc/R/bin/R CMD INSTALL scry StartedAt: 2024-04-15 15:44:34 -0400 (Mon, 15 Apr 2024) EndedAt: 2024-04-15 15:44:59 -0400 (Mon, 15 Apr 2024) EllapsedTime: 25.0 seconds RetCode: 0 Status: OK