Package: scruff Version: 1.20.0 Command: rm -rf scruff.buildbin-libdir && mkdir scruff.buildbin-libdir && /Users/biocbuild/BBS/utils/build-universal.sh scruff_1.20.0.tar.gz /Library/Frameworks/R.framework/Resources/bin/R scruff.buildbin-libdir StartedAt: 2024-04-16 12:41:57 -0400 (Tue, 16 Apr 2024) EndedAt: 2024-04-16 12:43:56 -0400 (Tue, 16 Apr 2024) EllapsedTime: 118.5 seconds RetCode: 0 Status: OK PackageFile: scruff_1.20.0.tgz PackageFileSize: 3.588 MiB