Package: scruff Version: 1.20.0 Command: rm -rf scruff.buildbin-libdir && mkdir scruff.buildbin-libdir && /Users/biocbuild/BBS/utils/build-universal.sh scruff_1.20.0.tar.gz /Library/Frameworks/R.framework/Resources/bin/R scruff.buildbin-libdir StartedAt: 2024-03-04 01:03:49 -0500 (Mon, 04 Mar 2024) EndedAt: 2024-03-04 01:05:16 -0500 (Mon, 04 Mar 2024) EllapsedTime: 87.0 seconds RetCode: 0 Status: OK PackageFile: scruff_1.20.0.tgz PackageFileSize: 3.467 MiB