Package: scruff Version: 1.20.0 Command: /home/biocbuild/R/R-4.3.1/bin/R CMD INSTALL scruff StartedAt: 2023-11-01 20:39:21 -0000 (Wed, 01 Nov 2023) EndedAt: 2023-11-01 20:40:43 -0000 (Wed, 01 Nov 2023) EllapsedTime: 82.1 seconds RetCode: 0 Status: OK