Package: scruff Version: 1.20.0 Command: /home/biocbuild/R/R-4.3.1/bin/R CMD build --keep-empty-dirs --no-resave-data scruff StartedAt: 2023-11-02 05:54:23 -0000 (Thu, 02 Nov 2023) EndedAt: 2023-11-02 05:56:53 -0000 (Thu, 02 Nov 2023) EllapsedTime: 150.3 seconds RetCode: 0 Status: OK PackageFile: scruff_1.20.0.tar.gz PackageFileSize: 1.593 MiB