Package: screenCounter Version: 1.2.0 Command: rm -rf screenCounter.buildbin-libdir && mkdir screenCounter.buildbin-libdir && /Users/biocbuild/BBS/utils/build-universal.sh screenCounter_1.2.0.tar.gz /Library/Frameworks/R.framework/Resources/bin/R screenCounter.buildbin-libdir StartedAt: 2024-04-16 12:41:41 -0400 (Tue, 16 Apr 2024) EndedAt: 2024-04-16 12:44:57 -0400 (Tue, 16 Apr 2024) EllapsedTime: 195.8 seconds RetCode: 0 Status: OK PackageFile: screenCounter_1.2.0.tgz PackageFileSize: 538.4 KiB