Package: scran Version: 1.30.2 Command: rm -rf scran.buildbin-libdir && mkdir scran.buildbin-libdir && F:\biocbuild\bbs-3.18-bioc\R\bin\R.exe CMD INSTALL --build --library=scran.buildbin-libdir scran_1.30.2.tar.gz StartedAt: 2024-04-16 07:39:29 -0400 (Tue, 16 Apr 2024) EndedAt: 2024-04-16 07:41:35 -0400 (Tue, 16 Apr 2024) EllapsedTime: 125.3 seconds RetCode: 0 Status: OK PackageFile: scran_1.30.2.zip PackageFileSize: 1.776 MiB