Package: scran Version: 1.30.2 Command: /home/biocbuild/bbs-3.18-bioc/R/bin/R CMD check --install=check:scran.install-out.txt --library=/home/biocbuild/bbs-3.18-bioc/R/site-library --timings scran_1.30.2.tar.gz StartedAt: 2024-04-16 03:40:08 -0400 (Tue, 16 Apr 2024) EndedAt: 2024-04-16 03:57:10 -0400 (Tue, 16 Apr 2024) EllapsedTime: 1021.7 seconds RetCode: 0 Status: WARNINGS CheckDir: scran.Rcheck Warnings: 1