Package: scoreInvHap Version: 1.24.0 Command: /Library/Frameworks/R.framework/Resources/bin/R CMD build --keep-empty-dirs --no-resave-data scoreInvHap StartedAt: 2024-04-15 21:45:15 -0400 (Mon, 15 Apr 2024) EndedAt: 2024-04-15 21:48:09 -0400 (Mon, 15 Apr 2024) EllapsedTime: 174.6 seconds RetCode: 0 Status: OK PackageFile: scoreInvHap_1.24.0.tar.gz PackageFileSize: 1.036 MiB