Package: scoreInvHap Version: 1.24.0 Command: rm -rf scoreInvHap.buildbin-libdir && mkdir scoreInvHap.buildbin-libdir && /Users/biocbuild/BBS/utils/build-universal.sh scoreInvHap_1.24.0.tar.gz /Library/Frameworks/R.framework/Resources/bin/R scoreInvHap.buildbin-libdir StartedAt: 2024-03-04 01:03:23 -0500 (Mon, 04 Mar 2024) EndedAt: 2024-03-04 01:04:30 -0500 (Mon, 04 Mar 2024) EllapsedTime: 67.8 seconds RetCode: 0 Status: OK PackageFile: scoreInvHap_1.24.0.tgz PackageFileSize: 1.534 MiB