Package: scoreInvHap Version: 1.24.0 Command: /home/biocbuild/R/R-4.3.1/bin/R CMD build --keep-empty-dirs --no-resave-data scoreInvHap StartedAt: 2023-11-02 05:49:39 -0000 (Thu, 02 Nov 2023) EndedAt: 2023-11-02 05:51:03 -0000 (Thu, 02 Nov 2023) EllapsedTime: 83.1 seconds RetCode: 0 Status: OK PackageFile: scoreInvHap_1.24.0.tar.gz PackageFileSize: 1.098 MiB