Package: scmeth Version: 1.22.0 Command: rm -rf scmeth.buildbin-libdir && mkdir scmeth.buildbin-libdir && /Users/biocbuild/BBS/utils/build-universal.sh scmeth_1.22.0.tar.gz /Library/Frameworks/R.framework/Resources/bin/R scmeth.buildbin-libdir StartedAt: 2024-04-16 12:40:55 -0400 (Tue, 16 Apr 2024) EndedAt: 2024-04-16 12:42:28 -0400 (Tue, 16 Apr 2024) EllapsedTime: 93.4 seconds RetCode: 0 Status: OK PackageFile: scmeth_1.22.0.tgz PackageFileSize: 823.9 KiB